﻿BEGIN:VCALENDAR
VERSION:2.0
PRODID:-//Copy Center - ECPv5.3.2.1//NONSGML v1.0//EN
CALSCALE:GREGORIAN
METHOD:PUBLISH
X-WR-CALNAME:Copy Center
X-ORIGINAL-URL:https://copycenter.idaho.gov
X-WR-CALDESC:Events for Copy Center
BEGIN:VTIMEZONE
TZID:America/Boise
BEGIN:DAYLIGHT
TZOFFSETFROM:-0700
TZOFFSETTO:-0600
TZNAME:MDT
DTSTART:20220313T090000
END:DAYLIGHT
BEGIN:STANDARD
TZOFFSETFROM:-0600
TZOFFSETTO:-0700
TZNAME:MST
DTSTART:20221106T080000
END:STANDARD
END:VTIMEZONE
BEGIN:VEVENT
DTSTART;VALUE=DATE:20220221
DTEND;VALUE=DATE:20220222
DTSTAMP:20210911T085658
CREATED:20190307T165133Z
LAST-MODIFIED:20190307T165133Z
UID:143-1645401600-1645487999@copycenter.idaho.gov
SUMMARY:Washington's Birthday (closed)
DESCRIPTION:State holiday observed and we will be closed.
URL:https://copycenter.idaho.gov/event/washingtons-birthday/2022-02-21/
LOCATION:ID\, United States
CATEGORIES:Holiday
END:VEVENT
END:VCALENDAR